Workbook

Sheet 202302M
A1: PROVIDENCE AND KETTLINA UTILITIES COMPANY SAS. NIT.901352888-1
A3: PRESUPUESTO DE FUNCIONAMIENTO AÑO 2023
C4: Ejecucion Enero | F4: Ejecucion Febrero | I4: Ejecucion Marzo | L4: Ejecucion Abril | O4: Ejecucion Mayo | R4: Ejecucion Junio | AA4: Acumulado
A5: Concepto | B5: Año 2023 | C5: Enero | D5: Ejecucion | E5: Variacion | F5: Febrero | G5: Ejecutado | H5: Variacion | I5: Marzo | J5: Ejecutado | K5: Variacion | L5: Abril | M5: Ejecutado | N5: Variacion | O5: Mayo | P5: Ejecutado | Q5: Variacion | R5: Junio | S5: Ejecutado | T5: Variacion | U5: Julio | V5: Agosto | W5: Sept | X5: Oct | Y5: Noviembre | Z5: Diciembre | AA5: Presupuesto acumulado | AB5: Ejecucion acumulada | AC5: variacion acumulada | AD5: Participacion %
A6: Cargo fijo acueducto | B6: 116980329 | C6: 0 | D6: 0 | E6: =+C6-D6 -> 0 | F6: 0 | G6: 0 | H6: =+F6-G6 -> 0 | I6: =+'202501anual'!E6 -> 67092060 | J6: 0 | K6: =+I6-J6 -> 67092060 | L6: =+'202501anual'!F6 -> 24907260 | M6: =6656089.59-1858002.8 -> 4798086.8 | N6: =+L6-M6 -> 20109173 | O6: =+'202501anual'!G6 -> 24907260 | P6: =41573.83-16871.76+11161757.15-3147286.65+365554.54-96309.64 -> 8308417.5 | Q6: =+O6-P6 -> 16598842 | R6: =+'202501anual'!H6 -> 24907260 | T6: =+R6-S6 -> 24907260 | AA6: =+C6+F6+I6+L6+O6+R6 -> 1.4181384e+08 | AB6: =+D6+G6+J6+M6+P6+S6 -> 13106504 | AC6: =+AA6-AB6 -> 1.2870733e+08 | AD6: =+AC6/AA6 -> 0.90757951
A7: Cargo variable acueducto | B7: 7.2768808e+08 | C7: 0 | D7: 0 | E7: =+C7-D7 -> 0 | F7: 0 | G7: 0 | H7: =+F7-G7 -> 0 | I7: =+'202501anual'!E7 -> 0 | J7: 0 | K7: =+I7-J7 -> 0 | L7: =+'202501anual'!F7 -> 73174394 | M7: =8880801.04-1355094.16 -> 7525706.9 | N7: =+L7-M7 -> 65648687 | O7: =+'202501anual'!G7 -> 73174394 | P7: =84673.96-18192.96+20293885.7-3331592.73+1132560-166295.4 -> 17995039 | Q7: =+O7-P7 -> 55179356 | R7: =+'202501anual'!H7 -> 73174394 | T7: =+R7-S7 -> 73174394 | AA7: =+C7+F7+I7+L7+O7+R7 -> 2.1952318e+08 | AB7: =+D7+G7+J7+M7+P7+S7 -> 25520745 | AC7: =+AA7-AB7 -> 1.9400244e+08 | AD7: =+AC7/AA7 -> 0.88374465
A8: Ingresos por medidor acueducto/acometidas | B8: 1460371848 | C8: 0 | D8: 0 | E8: =+C8-D8 -> 0 | F8: 0 | G8: 0 | H8: =+F8-G8 -> 0 | I8: =+'202501anual'!E8 -> 0 | J8: 1000210 | K8: =+I8-J8 -> -1000210 | L8: =+'202501anual'!F8 -> 1590000 | M8: 2529667 | N8: =+L8-M8 -> -939667 | O8: =+'202501anual'!G8 -> 1590000 | P8: =3331955.26+166683 -> 3498638.3 | Q8: =+O8-P8 -> -1908638.3 | R8: =+'202501anual'!H8 -> 1590000 | T8: =+R8-S8 -> 1590000 | AA8: =+C8+F8+I8+L8+O8+R8 -> 4770000 | AB8: =+D8+G8+J8+M8+P8+S8 -> 7028515.3 | AC8: =+AA8-AB8 -> -2258515.3 | AD8: =+AC8/AA8 -> -0.47348328
A9: Tarifa cargo variable Aseo | B9: 384000000 | C9: 32000000 | D9: 35018397 | E9: =+C9-D9 -> -3018397.3 | F9: 32000000 | G9: 22235664 | H9: =+F9-G9 -> 9764336 | I9: =+'202501anual'!E10 -> 119170200 | J9: =23782524.8+499828.7 -> 24282354 | K9: =+I9-J9 -> 94887846 | L9: =+'202501anual'!F10 -> 89250000 | M9: =31917625-14853460.67-90490.51 -> 16973674 | N9: =+L9-M9 -> 72276326 | O9: =+'202501anual'!G10 -> 89250000 | P9: =24478075.71-863600 -> 23614476 | Q9: =+O9-P9 -> 65635524 | R9: =+'202501anual'!H10 -> 89250000 | T9: =+R9-S9 -> 89250000 | AA9: =+C9+F9+I9+L9+O9+R9 -> 450920200 | AB9: =+D9+G9+J9+M9+P9+S9 -> 1.2212456e+08 | AC9: =+AA9-AB9 -> 3.2879564e+08 | AD9: =+AC9/AA9 -> 0.7291659
A10: Recuperacion cartera | B10: 0 | C10: 0 | D10: 0 | E10: =+C10-D10 -> 0 | F10: 0 | G10: 4211013 | H10: =+F10-G10 -> -4211013 | I10: =+'202501anual'!E11 -> 581250 | J10: =+[1]Resultados2023!$E$175+[1]Resultados2023!$C$175 -> 36638529 | K10: =+I10-J10 -> -36057279 | L10: =+'202501anual'!F11 -> 300526.71 | M10: 3592200 | N10: =+L10-M10 -> -3291673.3 | O10: =+'202501anual'!G11 -> 300526.71 | P10: 1967700 | Q10: =+O10-P10 -> -1667173.3 | R10: =+'202501anual'!H11 -> 300526.71 | T10: =+R10-S10 -> 300526.71 | AA10: =+C10+F10+I10+L10+O10+R10 -> 1482830.1 | AB10: =+D10+G10+J10+M10+P10+S10 -> 46409442 | AC10: =+AA10-AB10 -> -44926612 | AD10: =+AC10/AA10 -> -30.297882
A11: Mutuo 194: Planta desalinizadora Agua Dulce - RO 400 | B11: 1744961750 | C11: 348992350 | D11: 0 | E11: =+C11-D11 -> 348992350 | F11: 348992350 | G11: 7315123 | H11: =+F11-G11 -> 341677227 | I11: =+'202501anual'!E14 -> 0 | J11: 6429362 | K11: =+I11-J11 -> -6429362 | L11: =+'202501anual'!F14 -> 0 | M11: 0 | N11: =+L11-M11 -> 0 | O11: =+'202501anual'!G14 -> 0 | P11: 0 | Q11: =+O11-P11 -> 0 | R11: =+'202501anual'!H14 -> 0 | S11: 0 | T11: =+R11-S11 -> 0 | AA11: =+C11+F11+I11+L11+O11+R11 -> 697984700 | AB11: =+D11+G11+J11+M11+P11+S11 -> 13744485 | AC11: =+AA11-AB11 -> 684240215 | AD11: =+AC11/AA11 -> 0.98030833
A12: Total Ingresos | B12: =SUM(B6:B11) -> 4.434002e+09 | C12: =SUM(C6:C11) -> 380992350 | D12: =SUM(D6:D11) -> 35018397 | E12: =SUM(E6:E11) -> 3.4597395e+08 | F12: =SUM(F6:F11) -> 380992350 | G12: =SUM(G6:G11) -> 33761800 | H12: =SUM(H6:H11) -> 347230550 | I12: =SUM(I6:I11) -> 186843510 | ... AC12: =SUM(AC6:AC11) -> 1.2885605e+09 | AD12: =+AC12/AA12 -> 0.84969664
A13: Personal Ac | B13: 878588056 | C13: 73215671 | D13: 86122605 | E13: =+C13-D13 -> -12906933 | F13: =+'202501anual'!D16 -> 80642664 | G13: =+[2]Resultados2023!$D$9-[2]Resultados2023!$D$24-[2]Resultados2023!$C$24 -> 81355068 | H13: =+F13-G13 -> -712404.28 | I13: =+'202501anual'!E16 -> 80642664 | J13: =+[1]Resultados2023!$E$9-700236 -> 79053672 | K13: =+I13-J13 -> 1588992 | L13: =+'202501anual'!F16 -> 80642664 | M13: =+[3]Resultados2023!$F$9 -> 74716770 | N13: =+L13-M13 -> 5925894.1 | O13: =+'202501anual'!G16 -> 80642664 | P13: =+[4]Hoja1!$G$9 -> NUEVA EPS | Q13: =+O13-P13 -> #VALUE! | R13: =+'202501anual'!H16 -> 80642664 | T13: =+R13-S13 -> 80642664 | AA13: =+C13+F13+I13+L13+O13+R13 -> 4.7642899e+08 | AB13: =+D13+G13+J13+M13+P13+S13 -> #VALUE! | AC13: =+AA13-AB13 -> #VALUE! | AD13: =+AC13/AA13 -> #VALUE!
A14: Dotación de uniformes para el personal, elementos de proteccion y bioseguridad (pantalon , camisa, zapatos, impermeables, pantaneras, chalecos reflectivos) | B14: 21060000 | C14: 7020000 | D14: 0 | E14: =+C14-D14 -> 7020000 | F14: =+'202501anual'!#REF! -> #REF! | G14: 0 | H14: =+F14-G14 -> #REF! | I14: =+'202501anual'!#REF! -> #REF! | J14: 0 | K14: =+I14-J14 -> #REF! | L14: =+'202501anual'!#REF! -> #REF! | M14: =+[5]EjecucionPptalPasiva!$Q$203 -> 600000 | N14: =+L14-M14 -> #REF! | O14: =+'202501anual'!#REF! -> #REF! | P14: 0 | Q14: =+O14-P14 -> #REF! | R14: =+'202501anual'!#REF! -> #REF! | S14: 0 | T14: =+R14-S14 -> #REF! | AA14: =+C14+F14+I14+L14+O14+R14 -> #REF! | AB14: =+D14+G14+J14+M14+P14+S14 -> 600000 | AC14: =+AA14-AB14 -> #REF! | AD14: =+AC14/AA14 -> #REF!
A15: Potabilizacion Ac | B15: =1981048858-52905201 -> 1928143657 | C15: 27833200 | D15: 5039883 | E15: =+C15-D15 -> 22793317 | F15: =+'202501anual'!D17 -> 14700000 | G15: 8480617 | H15: =+F15-G15 -> 6219383 | I15: =+'202501anual'!E17 -> 14700000 | J15: =+#REF! -> #REF! | K15: =+I15-J15 -> #REF! | L15: =+'202501anual'!F17 -> 41500000 | M15: =+#REF! -> #REF! | N15: =+L15-M15 -> #REF! | O15: =+'202501anual'!G17 -> 48776000 | P15: =+#REF! -> #REF! | Q15: =+O15-P15 -> #REF! | R15: =+'202501anual'!H17 -> 33776000 | S15: =+#REF! -> #REF! | T15: =+R15-S15 -> #REF! | AA15: =+C15+F15+I15+L15+O15+R15 -> 181285200 | AB15: =+D15+G15+J15+M15+P15+S15 -> #REF! | AC15: =+AA15-AB15 -> #REF! | AD15: =+AC15/AA15 -> #REF!
A16: Distribuccion Ac | B16: =2106159750 -> 2106159750 | C16: 365592350 | D16: 125855 | E16: =+C16-D16 -> 365466495 | F16: =+'202501anual'!D28 -> 2000000 | G16: =125822+31200000+46400000 -> 77725822 | H16: =+F16-G16 -> -75725822 | I16: =+'202501anual'!E28 -> 7000000 | J16: =+#REF! -> #REF! | K16: =+I16-J16 -> #REF! | L16: =+'202501anual'!F28 -> 9100000 | M16: =+#REF! -> #REF! | N16: =+L16-M16 -> #REF! | O16: =+'202501anual'!G28 -> 9100000 | P16: =+#REF! -> #REF! | Q16: =+O16-P16 -> #REF! | R16: =+'202501anual'!H28 -> 8100000 | S16: =+#REF! -> #REF! | T16: =+R16-S16 -> #REF! | AA16: =+C16+F16+I16+L16+O16+R16 -> 400892350 | AB16: =+D16+G16+J16+M16+P16+S16 -> #REF! | AC16: =+AA16-AB16 -> #REF! | AD16: =+AC16/AA16 -> #REF!
A17: Captacion Ac | B17: =360000000+14000000 -> 374000000 | C17: 0 | D17: 0 | E17: =+C17-D17 -> 0 | F17: =+'202501anual'!D38 -> 0 | G17: 0 | H17: =+F17-G17 -> 0 | I17: =+'202501anual'!E38 -> 0 | J17: 0 | K17: =+I17-J17 -> 0 | L17: =+'202501anual'!F38 -> 0 | M17: 0 | N17: =+L17-M17 -> 0 | O17: =+'202501anual'!G38 -> 0 | P17: 0 | Q17: =+O17-P17 -> 0 | R17: =+'202501anual'!H38 -> 0 | S17: 0 | T17: =+R17-S17 -> 0 | AA17: =+C17+F17+I17+L17+O17+R17 -> 0 | AB17: =+D17+G17+J17+M17+P17+S17 -> 0 | AC17: =+AA17-AB17 -> 0 | AD17: 0
A18: Comercial Ac | B18: =744342859-14000000 -> 730342859 | C18: 48866667 | D18: 0 | E18: =+C18-D18 -> 48866667 | F18: =+'202501anual'!D41 -> 4528764.9 | G18: 0 | H18: =+F18-G18 -> 4528764.9 | I18: =+'202501anual'!E41 -> 5074982 | J18: =+#REF! -> #REF! | K18: =+I18-J18 -> #REF! | L18: =+'202501anual'!F41 -> 0 | M18: =+#REF! -> #REF! | N18: =+L18-M18 -> #REF! | O18: =+'202501anual'!G41 -> 0 | P18: =+#REF! -> #REF! | Q18: =+O18-P18 -> #REF! | R18: =+'202501anual'!H41 -> 0 | S18: =+#REF! -> #REF! | T18: =+R18-S18 -> #REF! | AA18: =+C18+F18+I18+L18+O18+R18 -> 58470414 | AB18: =+D18+G18+J18+M18+P18+S18 -> #REF! | AC18: =+AA18-AB18 -> #REF! | AD18: =+AC18/AA18 -> #REF!
A19: Generales/Administracion Ac | B19: =389605000+1000000 -> 390605000 | C19: 6650000 | D19: 1781552 | E19: =+C19-D19 -> 4868448 | F19: =+'202501anual'!D42 -> 5089000 | G19: =1005925+499333+3000000 -> 4505258 | H19: =+F19-G19 -> 583742 | I19: =+'202501anual'!E42 -> 62450000 | J19: =+#REF! -> #REF! | K19: =+I19-J19 -> #REF! | L19: =+'202501anual'!F42 -> 30089000 | M19: =+#REF! -> #REF! | N19: =+L19-M19 -> #REF! | O19: =+'202501anual'!G42 -> 33150000 | P19: =+#REF! -> #REF! | Q19: =+O19-P19 -> #REF! | R19: =+'202501anual'!H42 -> 32089000 | S19: =+#REF! -> #REF! | T19: =+R19-S19 -> #REF! | AA19: =+C19+F19+I19+L19+O19+R19 -> 169517000 | AB19: =+D19+G19+J19+M19+P19+S19 -> #REF! | AC19: =+AA19-AB19 -> #REF! | AD19: =+AC19/AA19 -> #REF!
A20: Subtotal Acueducto | B20: =SUM(B13:B19) -> 6428899322 | C20: =SUM(C13:C19) -> 5.2917789e+08 | D20: =SUM(D13:D19) -> 93069895 | E20: =SUM(E13:E19) -> 4.3610799e+08 | F20: =SUM(F13:F19) -> #REF! | G20: =SUM(G13:G19) -> 1.7206677e+08 | H20: =SUM(H13:H19) -> #REF! | I20: =SUM(I13:I19) -> #REF! | ... Q20: =SUM(Q13:Q19) -> #VALUE! | R20: =+'202501anual'!H59 -> 154607664 | S20: =SUM(S13:S19) -> #REF! | T20: =SUM(T13:T19) -> #REF! | U20: =SUM(U13:U19) -> 0 | V20: =SUM(V13:V19) -> 0 | W20: =SUM(W13:W19) -> 0 | X20: =SUM(X13:X19) -> 0 | Y20: =SUM(Y13:Y19) -> 0 | Z20: =SUM(Z13:Z19) -> 0 | ... AC20: =SUM(AC13:AC19) -> #VALUE! | AD20: =+AC20/AA20 -> #VALUE!
A21: Personal Alc | B21: 40627002 | C21: 3385583.6 | D21: 3565471 | E21: =+C21-D21 -> -179887.42 | F21: =+'202501anual'!D60 -> 4251264.9 | G21: =+[2]Resultados2023!$D$25 -> 3491616 | H21: =+F21-G21 -> 759648.87 | I21: =+'202501anual'!E60 -> 4251264.9 | J21: =+[1]Resultados2023!$E$25 -> 3505299 | K21: =+I21-J21 -> 745965.87 | L21: =+'202501anual'!F60 -> 4251264.9 | M21: =+[3]Resultados2023!$F$25 -> 3643137 | N21: =+L21-M21 -> 608127.87 | O21: =+'202501anual'!G60 -> 4251264.9 | P21: =+[4]Hoja1!$G$25 -> NUEVA EPS | Q21: =+O21-P21 -> #VALUE! | R21: =+'202501anual'!H60 -> 4251264.9 | T21: =+R21-S21 -> 4251264.9 | AA21: =+C21+F21+I21+L21+O21+R21 -> 24641908 | AB21: =+D21+G21+J21+M21+P21+S21 -> #VALUE! | AC21: =+AA21-AB21 -> #VALUE! | AD21: =+AC21/AA21 -> #VALUE!
A22: Recoleccion y transporte Alc | B22: 17458000 | C22: 3250000 | D22: 31735 | E22: =+C22-D22 -> 3218265 | F22: =+'202501anual'!D61 -> 277500 | G22: 31735 | H22: =+F22-G22 -> 245765 | I22: =+'202501anual'!E61 -> 277500 | J22: =+#REF! -> #REF! | K22: =+I22-J22 -> #REF! | L22: =+'202501anual'!F61 -> 277500 | M22: 31735 | N22: =+L22-M22 -> 245765 | O22: =+'202501anual'!G61 -> 180000 | P22: 31735 | Q22: =+O22-P22 -> 148265 | R22: =+'202501anual'!H61 -> 277500 | T22: =+R22-S22 -> 277500 | AA22: =+C22+F22+I22+L22+O22+R22 -> 4540000 | AB22: =+D22+G22+J22+M22+P22+S22 -> #REF! | AC22: =+AA22-AB22 -> #REF! | AD22: =+AC22/AA22 -> #REF!
A23: Subtotal Alcantarillado | B23: =SUM(B21:B22) -> 58085002 | C23: =SUM(C21:C22) -> 6635583.6 | D23: =SUM(D21:D22) -> 3597206 | E23: =SUM(E21:E22) -> 3038377.6 | F23: =SUM(F21:F22) -> 4528764.9 | G23: =SUM(G21:G22) -> 3523351 | H23: =SUM(H21:H22) -> 1005413.9 | I23: =SUM(I21:I22) -> 4528764.9 | ... Q23: =SUM(Q21:Q22) -> #VALUE! | R23: =+'202501anual'!H62 -> 4528764.9 | S23: =SUM(S21:S22) -> 0 | T23: =SUM(T21:T22) -> 4528764.9 | U23: =SUM(U21:U22) -> 0 | V23: =SUM(V21:V22) -> 0 | W23: =SUM(W21:W22) -> 0 | X23: =SUM(X21:X22) -> 0 | Y23: =SUM(Y21:Y22) -> 0 | Z23: =SUM(Z21:Z22) -> 0 | ... AC23: =SUM(AC21:AC22) -> #VALUE! | AD23: =+AC23/AA23 -> #VALUE!
A24: Costos de Funcionamiento Operativos AA | B24: =+B23+B20 -> 6486984324 | C24: =+C23+C20 -> 5.3581347e+08 | D24: =+D23+D20 -> 96667101 | E24: =+E23+E20 -> 4.3914637e+08 | F24: =+F23+F20 -> #REF! | G24: =+G23+G20 -> 1.7559012e+08 | H24: =+H23+H20 -> #REF! | I24: =+I23+I20 -> #REF! | ... Q24: =+Q23+Q20 -> #VALUE! | R24: =+'202501anual'!H63 -> 1.5913643e+08 | S24: =+S23+S20 -> #REF! | T24: =+T23+T20 -> #REF! | U24: =+U23+U20 -> 0 | V24: =+V23+V20 -> 0 | W24: =+W23+W20 -> 0 | X24: =+X23+X20 -> 0 | Y24: =+Y23+Y20 -> 0 | Z24: =+Z23+Z20 -> 0 | ... AC24: =+AC23+AC20 -> #VALUE! | AD24: =+AC24/AA24 -> #VALUE! | AE24: =+H24/F24 -> #REF! | AF24: =+Q24/O24*100 -> #VALUE!
A25: Personal | B25: 1516052727 | C25: 1.2633773e+08 | D25: 96267510 | E25: =+C25-D25 -> 30070218 | F25: =+'202501anual'!D64 -> 120967250 | G25: =+[2]Resultados2023!$D$39-[2]Resultados2023!$D$55-[2]Resultados2023!$C$55 -> 89823865 | H25: =+F25-G25 -> 31143385 | I25: =+'202501anual'!E64 -> 120967250 | J25: =+[1]Resultados2023!$E$39-2640011 -> 96979851 | K25: =+I25-J25 -> 23987399 | L25: =+'202501anual'!F64 -> 120967250 | M25: =+[3]Resultados2023!$F$39 -> 1.0650873e+08 | N25: =+L25-M25 -> 14458524 | O25: =+'202501anual'!G64 -> 120967250 | P25: =+[4]Hoja1!$G$39 -> NUEVA EPS | Q25: =+O25-P25 -> #VALUE! | R25: =+'202501anual'!H64 -> 120967250 | T25: =+R25-S25 -> 120967250 | AA25: =+C25+F25+I25+L25+O25+R25 -> 7.3117398e+08 | AB25: =+D25+G25+J25+M25+P25+S25 -> #VALUE! | AC25: =+AA25-AB25 -> #VALUE! | AD25: =+AC25/AA25*100 -> #VALUE!
A26: Dotación de uniformes para el personal, elementos de proteccion y bioseguridad (pantalon , camisa, zapatos, impermeables, pantaneras, chalecos reflectivos) | B26: 254272041 | C26: 20972282 | D26: 0 | E26: =+C26-D26 -> 20972282 | F26: =+'202501anual'!D65 -> 0 | G26: 0 | H26: =+F26-G26 -> 0 | I26: =+'202501anual'!E65 -> 0 | J26: 0 | K26: =+I26-J26 -> 0 | L26: =+'202501anual'!F65 -> 0 | M26: =+#REF! -> #REF! | N26: =+L26-M26 -> #REF! | O26: =+'202501anual'!G65 -> 0 | P26: 0 | Q26: =+O26-P26 -> 0 | R26: =+'202501anual'!H65 -> 0 | S26: 0 | T26: =+R26-S26 -> 0 | AA26: =+C26+F26+I26+L26+O26+R26 -> 20972282 | AB26: =+D26+G26+J26+M26+P26+S26 -> #REF! | AC26: =+AA26-AB26 -> #REF! | AD26: =+AC26/AA26*100 -> #REF!
A27: Barrido vias | B27: 36000000 | C27: =40654560-28654560 -> 12000000 | D27: 31735 | E27: =+C27-D27 -> 11968265 | F27: =+'202501anual'!D66 -> 0 | G27: 31735 | H27: =+F27-G27 -> -31735 | I27: =+'202501anual'!E66 -> 0 | J27: =+#REF! -> #REF! | K27: =+I27-J27 -> #REF! | L27: =+'202501anual'!F66 -> 0 | M27: =+#REF! -> #REF! | N27: =+L27-M27 -> #REF! | O27: =+'202501anual'!G66 -> 0 | P27: =+#REF! -> #REF! | Q27: =+O27-P27 -> #REF! | R27: =+'202501anual'!H66 -> 0 | S27: =+#REF! -> #REF! | T27: =+R27-S27 -> #REF! | AA27: =+C27+F27+I27+L27+O27+R27 -> 12000000 | AB27: =+D27+G27+J27+M27+P27+S27 -> #REF! | AC27: =+AA27-AB27 -> #REF! | AD27: =+AC27/AA27*100 -> #REF!
A28: Recolección y Transporte | B28: =8582072214-7200000000-720000000 -> 662072214 | C28: 55867726 | D28: 1086170 | E28: =+C28-D28 -> 54781556 | F28: =+'202501anual'!D69 -> 51850000 | G28: =63470+22169100 -> 22232570 | H28: =+F28-G28 -> 29617430 | I28: =+'202501anual'!E69 -> 51850000 | J28: =+#REF! -> #REF! | K28: =+I28-J28 -> #REF! | L28: =+'202501anual'!F69 -> 51850000 | M28: =+#REF! -> #REF! | N28: =+L28-M28 -> #REF! | O28: =+'202501anual'!G69 -> 51850000 | P28: =+#REF! -> #REF! | Q28: =+O28-P28 -> #REF! | R28: =+'202501anual'!H69-7200000000-720000000 -> -7868150000 | S28: =+#REF! -> #REF! | T28: =+R28-S28 -> #REF! | AA28: =+C28+F28+I28+L28+O28+R28 -> -7.6048823e+09 | AB28: =+D28+G28+J28+M28+P28+S28 -> #REF! | AC28: =+AA28-AB28 -> #REF! | AD28: =+AC28/AA28*100 -> #REF!
A29: Disposición final | B29: =1481563987+36650001 -> 1518213988 | C29: 95543916 | D29: 8641952 | E29: =+C29-D29 -> 86901964 | F29: =+'202501anual'!D74 -> 13400000 | G29: =64000000+31775 -> 64031775 | H29: =+F29-G29 -> -50631775 | I29: =+'202501anual'!E74 -> 32400000 | J29: =+#REF! -> #REF! | K29: =+I29-J29 -> #REF! | L29: =+'202501anual'!F74 -> 33400000 | M29: =+#REF! -> #REF! | N29: =+L29-M29 -> #REF! | O29: =+'202501anual'!G74 -> 21400000 | P29: =+#REF! -> #REF! | Q29: =+O29-P29 -> #REF! | R29: =+'202501anual'!H74 -> 26400000 | S29: =+#REF! -> #REF! | T29: =+R29-S29 -> #REF! | AA29: =+C29+F29+I29+L29+O29+R29 -> 2.2254392e+08 | AB29: =+D29+G29+J29+M29+P29+S29 -> #REF! | AC29: =+AA29-AB29 -> #REF! | AD29: =+AC29/AA29*100 -> #REF!
A30: Generales/Administracion | B30: =737281080-10000000-10000000 -> 717281080 | C30: 133706950 | D30: 117651 | E30: =+C30-D30 -> 133589299 | F30: =+'202501anual'!D88 -> 11389500 | G30: =3454434+117651+3000000 -> 6572085 | H30: =+F30-G30 -> 4817415 | I30: =+'202501anual'!E88 -> 27889500 | J30: =+#REF! -> #REF! | K30: =+I30-J30 -> #REF! | L30: =+'202501anual'!F88 -> 17889500 | M30: =+#REF! -> #REF! | N30: =+L30-M30 -> #REF! | O30: =+'202501anual'!G88 -> 4850000 | P30: =+#REF! -> #REF! | Q30: =+O30-P30 -> #REF! | R30: =+'202501anual'!H88-10000000-10000000 -> -12686500 | S30: =+#REF! -> #REF! | T30: =+R30-S30 -> #REF! | AA30: =+C30+F30+I30+L30+O30+R30 -> 183038950 | AB30: =+D30+G30+J30+M30+P30+S30 -> #REF! | AC30: =+AA30-AB30 -> #REF! | AD30: =+AC30/AA30*100 -> #REF!
A31: Aseo y Limpieza | B31: =47254560+28654560 -> 75909120 | C31: 72609120 | D31: 0 | E31: =+C31-D31 -> 72609120 | F31: =+'202501anual'!D99 -> 0 | G31: 0 | H31: =+F31-G31 -> 0 | I31: =+'202501anual'!E99 -> 0 | J31: 0 | K31: =+I31-J31 -> 0 | L31: =+'202501anual'!F99 -> 0 | M31: 0 | N31: =+L31-M31 -> 0 | O31: =+'202501anual'!G99 -> 0 | P31: 0 | Q31: =+O31-P31 -> 0 | R31: =+'202501anual'!H99 -> 0 | S31: 0 | T31: =+R31-S31 -> 0 | AA31: =+C31+F31+I31+L31+O31+R31 -> 72609120 | AB31: =+D31+G31+J31+M31+P31+S31 -> 0 | AC31: =+AA31-AB31 -> 72609120 | AD31: =+AC31/AA31*100 -> 100
A32: Compra Buldozer | B32: =1500000000-1500000000 -> 0 | C32: 0 | D32: 0 | E32: =+C32-D32 -> 0 | F32: =+'202501anual'!#REF! -> #REF! | G32: 0 | H32: =+F32-G32 -> #REF! | I32: =+'202501anual'!#REF! -> #REF! | J32: 0 | K32: =+I32-J32 -> #REF! | L32: =+'202501anual'!#REF! -> #REF! | M32: 0 | N32: =+L32-M32 -> #REF! | O32: =+'202501anual'!#REF! -> #REF! | P32: 0 | Q32: =+O32-P32 -> #REF! | R32: -1500000000 | S32: 0 | T32: =+R32-S32 -> -1500000000 | AA32: =+C32+F32+I32+L32+O32+R32 -> #REF! | AB32: =+D32+G32+J32+M32+P32+S32 -> 0 | AC32: =+AA32-AB32 -> #REF! | AD32: 0
A33: Compra barrido mecanico | B33: =150000000-150000000 -> 0 | C33: 0 | D33: 0 | E33: =+C33-D33 -> 0 | F33: =+'202501anual'!#REF! -> #REF! | G33: 0 | H33: =+F33-G33 -> #REF! | I33: =+'202501anual'!#REF! -> #REF! | J33: 0 | K33: =+I33-J33 -> #REF! | L33: =+'202501anual'!#REF! -> #REF! | M33: 0 | N33: =+L33-M33 -> #REF! | O33: =+'202501anual'!#REF! -> #REF! | P33: 0 | Q33: =+O33-P33 -> #REF! | R33: -150000000 | S33: 0 | T33: =+R33-S33 -> -150000000 | AA33: =+C33+F33+I33+L33+O33+R33 -> #REF! | AB33: =+D33+G33+J33+M33+P33+S33 -> 0 | AC33: =+AA33-AB33 -> #REF! | AD33: 0 | AF33: =+Q34/O34*100 -> #VALUE!
A34: Costos de Funcionamiento Operativos Aseo | B34: =SUM(B25:B33) -> 4779801170 | C34: =SUM(C25:C33) -> 5.1703772e+08 | D34: =SUM(D25:D33) -> 1.0614502e+08 | E34: =SUM(E25:E33) -> 4.108927e+08 | F34: =SUM(F25:F33) -> #REF! | G34: =SUM(G25:G33) -> 1.8269203e+08 | H34: =SUM(H25:H33) -> #REF! | I34: =SUM(I25:I33) -> #REF! | ... AC34: =SUM(AC25:AC33) -> #VALUE! | AD34: =+AC34/AA34 -> #VALUE! | AE34: =+H34/F34 -> #REF! | AF34: =100-63 -> 37 | AG34: =+N34/L34*100 -> #REF!
A35: Nomina Administracion | B35: 315108512 | C35: 26259043 | D35: 20905207 | E35: =+C35-D35 -> 5353835.7 | F35: =+'202501anual'!D101 -> 34751494 | G35: =27167981-[2]Resultados2023!$C$130-4802535 -> 22015542 | H35: =+F35-G35 -> 12735952 | I35: =+'202501anual'!E101 -> 34751494 | J35: =45708144.09-J36-1028181 -> 22383681 | K35: =+I35-J35 -> 12367813 | L35: =+'202501anual'!F101 -> 34751494 | M35: =32442461-4802535 -> 27639926 | N35: =+L35-M35 -> 7111568.4 | O35: =+'202501anual'!G101 -> 34751494 | P35: 27521103 | Q35: =+O35-P35 -> 7230391.4 | R35: =+'202501anual'!H101 -> 34751494 | T35: =+R35-S35 -> 34751494 | AA35: =+C35+F35+I35+L35+O35+R35 -> 2.0001651e+08 | AB35: =+D35+G35+J35+M35+P35+S35 -> 1.2046546e+08 | AC35: =+AA35-AB35 -> 79551056 | AD35: =+AC35/AA35*100 -> 39.772244
A36: Nomina comercial | B36: 229762301 | C36: 19146858 | D36: 18068114 | E36: =+C36-D36 -> 1078744.4 | F36: =+'202501anual'!D102 -> 21107704 | G36: =16820292+4802535 -> 21622827 | H36: =+F36-G36 -> -515123.12 | I36: =+'202501anual'!E102 -> 21107704 | J36: =17493747+4802535 -> 22296282 | K36: =+I36-J36 -> -1188578.1 | L36: =+'202501anual'!F102 -> 21107704 | M36: =18669307+4802535 -> 23471842 | N36: =+L36-M36 -> -2364138.1 | O36: =+'202501anual'!G102 -> 21107704 | P36: 23370937 | Q36: =+O36-P36 -> -2263233.6 | R36: =+'202501anual'!H102 -> 21107704 | T36: =+R36-S36 -> 21107704 | AA36: =+C36+F36+I36+L36+O36+R36 -> 1.2468538e+08 | AB36: =+D36+G36+J36+M36+P36+S36 -> 1.0883e+08 | AC36: =+AA36-AB36 -> 15855375 | AD36: =+AC36/AA36*100 -> 12.716307
A37: Contribuciones CRA | B37: 2000000 | C37: 0 | D37: 0 | E37: =+C37-D37 -> 0 | F37: =+'202501anual'!D103 -> 27000000 | G37: 0 | H37: =+F37-G37 -> 27000000 | I37: =+'202501anual'!E103 -> 0 | K37: =+I37-J37 -> 0 | L37: =+'202501anual'!F103 -> 0 | M37: 0 | N37: =+L37-M37 -> 0 | O37: =+'202501anual'!G103 -> 0 | P37: 0 | Q37: =+O37-P37 -> 0 | R37: =+'202501anual'!H103 -> 0 | T37: =+R37-S37 -> 0 | AA37: =+C37+F37+I37+L37+O37+R37 -> 27000000 | AB37: =+D37+G37+J37+M37+P37+S37 -> 0 | AC37: =+AA37-AB37 -> 27000000 | AD37: 0
A38: Servicios software INTEGRIN | B38: 12120000 | C38: 760000 | D38: 794000 | E38: =+C38-D38 -> -34000 | F38: =+'202501anual'!D104 -> 1760000 | G38: 794000 | H38: =+F38-G38 -> 966000 | I38: =+'202501anual'!E104 -> 1760000 | J38: =+[6]EjecucionPptalPasiva!$Q$276 -> 794000 | K38: =+I38-J38 -> 966000 | L38: =+'202501anual'!F104 -> 1760000 | M38: =+[5]EjecucionPptalPasiva!$Q$276 -> 794000 | N38: =+L38-M38 -> 966000 | O38: =+'202501anual'!G104 -> 1760000 | P38: 794000 | Q38: =+O38-P38 -> 966000 | R38: =+'202501anual'!H104 -> 1760000 | T38: =+R38-S38 -> 1760000 | AA38: =+C38+F38+I38+L38+O38+R38 -> 9560000 | AB38: =+D38+G38+J38+M38+P38+S38 -> 3970000 | AC38: =+AA38-AB38 -> 5590000 | AD38: =+AC38/AA38*100 -> 58.472803
A39: Licenciamiento software | B39: 10000000 | C39: 0 | D39: 0 | E39: =+C39-D39 -> 0 | F39: =+'202501anual'!D105 -> 350000 | G39: 0 | H39: =+F39-G39 -> 350000 | I39: =+'202501anual'!E105 -> 350000 | K39: =+I39-J39 -> 350000 | L39: =+'202501anual'!F105 -> 350000 | M39: 0 | N39: =+L39-M39 -> 350000 | O39: =+'202501anual'!G105 -> 350000 | P39: 0 | Q39: =+O39-P39 -> 350000 | R39: =+'202501anual'!H105 -> 350000 | T39: =+R39-S39 -> 350000 | AA39: =+C39+F39+I39+L39+O39+R39 -> 1750000 | AB39: =+D39+G39+J39+M39+P39+S39 -> 0 | AC39: =+AA39-AB39 -> 1750000 | AD39: 0
A40: Pagina WEB-Dominio actualizacion software | B40: 13500000 | C40: 0 | D40: 0 | E40: =+C40-D40 -> 0 | F40: =+'202501anual'!D106 -> 0 | G40: 0 | H40: =+F40-G40 -> 0 | I40: =+'202501anual'!E106 -> 0 | K40: =+I40-J40 -> 0 | L40: =+'202501anual'!F106 -> 0 | M40: 0 | N40: =+L40-M40 -> 0 | O40: =+'202501anual'!G106 -> 0 | P40: 0 | Q40: =+O40-P40 -> 0 | R40: =+'202501anual'!H106 -> 600000 | T40: =+R40-S40 -> 600000 | AA40: =+C40+F40+I40+L40+O40+R40 -> 600000 | AB40: =+D40+G40+J40+M40+P40+S40 -> 0 | AC40: =+AA40-AB40 -> 600000 | AD40: 0
A41: Arrendamiento oficina administrativa | B41: 134400000 | C41: 11200000 | D41: 10666000 | E41: =+C41-D41 -> 534000 | F41: =+'202501anual'!D107 -> 11500000 | G41: 10666000 | H41: =+F41-G41 -> 834000 | I41: =+'202501anual'!E107 -> 11500000 | J41: =+[6]EjecucionPptalPasiva!$Q$289+[6]EjecucionPptalPasiva!$Q$294 -> 10666000 | K41: =+I41-J41 -> 834000 | L41: =+'202501anual'!F107 -> 11500000 | M41: =+[5]EjecucionPptalPasiva!$Q$289+[5]EjecucionPptalPasiva!$Q$294 -> 10666000 | N41: =+L41-M41 -> 834000 | O41: =+'202501anual'!G107 -> 11500000 | P41: 10666000 | Q41: =+O41-P41 -> 834000 | R41: =+'202501anual'!H107 -> 11500000 | T41: =+R41-S41 -> 11500000 | AA41: =+C41+F41+I41+L41+O41+R41 -> 68700000 | AB41: =+D41+G41+J41+M41+P41+S41 -> 53330000 | AC41: =+AA41-AB41 -> 15370000 | AD41: =+AC41/AA41*100 -> 22.372635
...

Sheet 202501anual
A1: PROVIDENCE AND KETTLINA UTILITIES COMPANY SAS. NIT.901352888-1
A5: Concepto | B5: Año 2026 | C5: Enero | D5: Febrero | E5: Marzo | F5: Abril | G5: Mayo | H5: Junio | I5: Julio | J5: Agosto | K5: Sept | L5: Oct | M5: Noviembre | N5: Diciembre | O5: Presupuesto acumulado
A6: Cargo fijo acueducto | B6: =+[7]Ppto!$G$5 -> 805104720 | C6: 24907260 | D6: =+[8]Ppto!$J$5 -> 67092060 | E6: =+[8]Ppto!$J$5 -> 67092060 | F6: 24907260 | G6: =+F6 -> 24907260 | H6: 24907260 | I6: 24907260 | J6: 24907260 | K6: 24907260 | L6: 24907260 | M6: 24907260 | N6: 24907260 | O6: =SUM(C6:N6) -> 3.8325672e+08
A7: Cargo variable acueducto | B7: 0 | C7: 73174394 | D7: 0 | E7: 0 | F7: 73174394 | G7: =+F7 -> 73174394 | H7: 73174394 | I7: 73174394 | J7: 73174394 | K7: 73174394 | L7: 73174394 | M7: 73174394 | N7: 73174394 | O7: =SUM(C7:N7) -> 7.3174394e+08
A8: Ingresos por conexiones nuevas | B8: 0 | C8: 1590000 | D8: 0 | E8: 0 | F8: 1590000 | G8: =+F8 -> 1590000 | H8: 1590000 | I8: 1590000 | J8: 1590000 | K8: 1590000 | L8: 1590000 | M8: 1590000 | N8: 1590000 | O8: =SUM(C8:N8) -> 15900000
A9: Suspenciones y reconexiones | B9: 0 | C9: 1000000 | D9: 0 | E9: 0 | F9: 1000000 | G9: =+F9 -> 1000000 | H9: 1000000 | I9: 1000000 | J9: 1000000 | K9: 1000000 | L9: 1000000 | M9: 1000000 | N9: 1000000 | O9: =SUM(C9:N9) -> 10000000
A10: Aseo | B10: =+[7]Ppto!$G$6 -> 1445419200 | C10: 89250000 | D10: =+[8]Ppto!$J$6 -> 119170200 | E10: =+[8]Ppto!$J$6 -> 119170200 | F10: 89250000 | G10: =+F10 -> 89250000 | H10: 89250000 | I10: 89250000 | J10: 89250000 | K10: 89250000 | L10: 89250000 | M10: 89250000 | N10: 89250000 | O10: =SUM(C10:N10) -> 1130840400
A11: =+'[9]Planeación 2024 P&K Hoja de W'!$C$10 -> Cargo fijo alcantarillado | B11: 0 | C11: 300526.71 | D11: =+[8]Ppto!$J$7 -> 581250 | E11: =+[8]Ppto!$J$7 -> 581250 | F11: 300526.71 | G11: =+F11 -> 300526.71 | H11: 300526.71 | I11: 300526.71 | J11: 300526.71 | K11: 300526.71 | L11: 300526.71 | M11: 300526.71 | N11: 300526.71 | O11: =SUM(C11:N11) -> 4167767.1
A12: =+'[9]Planeación 2024 P&K Hoja de W'!$C$11 -> Cargo variable alcantarillado | B12: =+[7]Ppto!$G$7 -> 6975000 | C12: 509060.85 | D12: 0 | E12: 0 | F12: 509060.85 | G12: =+F12 -> 509060.85 | H12: 509060.85 | I12: 509060.85 | J12: 509060.85 | K12: 509060.85 | L12: 509060.85 | M12: 509060.85 | N12: 509060.85 | O12: =SUM(C12:N12) -> 5090608.5
A13: Recuperacion de cartera | B13: =+[7]Ppto!$G$8 -> 71800000 | C13: 2500000 | D13: =+[8]Ppto!$J$8 -> 3800000 | E13: =+[8]Ppto!$J$8 -> 3800000 | F13: 8000000 | G13: =+F13 -> 8000000 | H13: 8000000 | I13: 8000000 | J13: 8000000 | K13: 8000000 | L13: 8000000 | M13: 8000000 | N13: 8000000 | O13: =SUM(C13:N13) -> 82100000
A14: Contratos Mutuos - Fondo Empresarial | B14: =+[7]Ppto!$G$10 -> 4.3806657e+09 | E14: 0 | G14: =+F14 -> 0 | I14: 0 | J14: 1.9062791e+09 | K14: 0 | L14: 0 | M14: 0 | N14: 0 | O14: =SUM(C14:N14) -> 1.9062791e+09 | P14: =SUM(H6:N13) -> 1.3911187e+09
A15: Total Ingresos | B15: =SUM(B6:B14) -> 6.7099646e+09 | C15: =SUM(C6:C14) -> 1.9323124e+08 | D15: =SUM(D6:D14) -> 190643510 | E15: =SUM(E6:E14) -> 190643510 | F15: =SUM(F6:F14) -> 1.9873124e+08 | G15: =SUM(G6:G14) -> 1.9873124e+08 | H15: =SUM(H6:H14) -> 1.9873124e+08 | I15: =SUM(I6:I14) -> 1.9873124e+08 | ... O15: =SUM(O6:O14) -> 4.2693786e+09
A16: Personal Ac | B16: =+[7]Ppto!$H$53 -> 967711968 | C16: =+B16/12 -> 80642664 | D16: =+C16 -> 80642664 | E16: =+D16 -> 80642664 | F16: =+E16 -> 80642664 | G16: =+F16 -> 80642664 | H16: =+G16 -> 80642664 | I16: =+H16 -> 80642664 | J16: =+I16 -> 80642664 | K16: =+J16 -> 80642664 | ... N16: =+M16 -> 80642664 | O16: =SUM(C16:N16) -> 967711968 | U16: =+[10]Resultados!$H$9-[10]Resultados!$H$24 -> 79380196
A17: Potabilizacion Ac | B17: =SUM(B18:B26) -> 328400000 | C17: =SUM(C18:C26) -> 14700000 | D17: =SUM(D18:D26) -> 14700000 | E17: =SUM(E18:E26) -> 14700000 | F17: =SUM(F18:F26) -> 41500000 | G17: =SUM(G18:G26) -> 48776000 | H17: =SUM(H18:H26) -> 33776000 | I17: =SUM(I18:I26) -> 34700000 | J17: =SUM(J18:J25) -> 46000000 | K17: =SUM(K18:K25) -> 6000000 | L17: =SUM(L18:L25) -> 38500000 | M17: =SUM(M18:M25) -> 14500000 | N17: =SUM(N18:N39) -> 46000000 | O17: =SUM(O18:O26) -> 203852000 | P17: =SUM(P18:P26) -> 4311268 | Q17: =SUM(Q18:Q26) -> 15011958 | R17: =SUM(R18:R26) -> 6842675 | S17: =SUM(S18:S26) -> 11450400 | T17: =SUM(T18:T26) -> 14682730 | U17: =SUM(U18:U26) -> 33454796 | V17: =SUM(V18:V26) -> 15311168
A18: Alquiler maq amarilla | B18: 0 | I18: 0 | L18: 0 | O18: =SUM(C18:N18) -> 0
A19: Accesorios planta | B19: 0 | F19: 0 | G19: 0 | H19: =+[8]Ppto!N139 -> 15000000 | I19: =+[8]Ppto!O139 -> 0 | J19: 0 | K19: 0 | L19: =+'[11]Planeación 2025 P&K (def Mod1)'!$R$50 -> 5000000 | O19: =SUM(C19:N19)-15000000 -> 5000000 | U19: =+[12]EjecucionPptalPasiva!$Q$219 -> 7935000 | V19: 4907900
A20: Mantenimiento generador hipoclorito, energia | B20: =+[13]EjecucionPptalPasiva!D257+[13]EjecucionPptalPasiva!D279 -> 42000000 | C20: =+[7]Ppto!Y132 -> 0 | F20: =+'[11]Planeación 2025 P&K (def Mod1)'!L$17+'[11]Planeación 2025 P&K (def Mod1)'!L$18-6200000 -> 21300000 | G20: =+[8]Ppto!$M$134 -> 0 | J20: =+'[11]Planeación 2025 P&K (def Mod1)'!$P$17 -> 20000000 | L20: =+'[11]Planeación 2025 P&K (def Mod1)'!$R$18 -> 7500000 | M20: =+'[11]Planeación 2025 P&K (def Mod1)'!$S$19 -> 2500000 | N20: =+'[11]Planeación 2025 P&K (def Mod1)'!$T$17+'[11]Planeación 2025 P&K (def Mod1)'!$T$18 -> 20000000 | O20: =SUM(C20:N20)-25000000 -> 46300000
A21: Mantenimiento electromecanico | B21: 0 | E21: 0 | F21: =+'[11]Planeación 2025 P&K (def Mod1)'!L25 -> 3000000 | G21: =+[8]Ppto!M152+[8]Ppto!M153 -> 4076000 | H21: =+[8]Ppto!N152+[8]Ppto!N153 -> 4076000 | I21: 0 | M21: =+'[11]Planeación 2025 P&K (def Mod1)'!$S$25 -> 6000000 | O21: =SUM(C21:N21) -> 17152000 | Q21: 2175600 | R21: =2175600+330000 -> 2505600 | S21: 1450400 | T21: 1813000 | U21: =+[12]EjecucionPptalPasiva!$Q$233+[12]EjecucionPptalPasiva!$Q$246 -> 3626000 | V21: 1350950
A22: Filtros Generador Hipoclorito de Sodio | B22: 0 | F22: =+'[11]Planeación 2025 P&K (def Mod1)'!L19 -> 2500000 | G22: =+[8]Ppto!$M$134 -> 0 | I22: 0 | N22: =+'[11]Planeación 2025 P&K (def Mod1)'!$T$19 -> 0 | O22: =SUM(C22:N22) -> 2500000
A23: Insumos químicos y reactivos (sal, AHC, polímero) | B23: =+[13]EjecucionPptalPasiva!D256 -> 110000000 | C23: =+[7]Ppto!Y138 -> 0 | E23: 0 | F23: 0 | G23: =+[8]Ppto!M138 -> 30000000 | H23: =+[8]Ppto!N138 -> 0 | I23: =+[8]Ppto!O138 -> 20000000 | J23: =+'[11]Planeación 2025 P&K (def Mod1)'!P20 -> 20000000 | K23: =+'[11]Planeación 2025 P&K (def Mod1)'!Q20 -> 0 | L23: =+'[11]Planeación 2025 P&K (def Mod1)'!$R$20 -> 20000000 | M23: 0 | N23: =+'[11]Planeación 2025 P&K (def Mod1)'!$T$20 -> 20000000 | O23: =SUM(C23:N23)-12000000 -> 98000000 | Q23: 8400000 | T23: 5040000
A24: Conexión | B24: 0 | D24: 0 | I24: 0 | O24: =SUM(C24:N24)-12000000 -> -12000000
A25: Contrato laboratorio (AAA) corregir distribucion | B25: =+[13]EjecucionPptalPasiva!$D$280 -> 56400000 | C25: =+[7]Ppto!Y133 -> 4700000 | D25: =+[7]Ppto!Z133 -> 4700000 | E25: =+[7]Ppto!AA133 -> 4700000 | F25: =+[7]Ppto!AB133 -> 4700000 | G25: =+[7]Ppto!AC133 -> 4700000 | H25: =+[7]Ppto!AD133 -> 4700000 | I25: =+[7]Ppto!AE133 -> 4700000 | J25: =+'[11]Planeación 2025 P&K (def Mod1)'!P24 -> 6000000 | K25: =+'[11]Planeación 2025 P&K (def Mod1)'!Q24 -> 6000000 | L25: =+'[11]Planeación 2025 P&K (def Mod1)'!$R$24 -> 6000000 | M25: =+'[11]Planeación 2025 P&K (def Mod1)'!$S$24 -> 6000000 | N25: =+'[11]Planeación 2025 P&K (def Mod1)'!$S$24 -> 6000000 | O25: =SUM(C25:N25)-16000000 -> 46900000 | P25: 4311268 | Q25: 4436358 | R25: 4337075 | U25: =+[12]EjecucionPptalPasiva!$Q$247 -> 13172113
A26: Energia | B26: =+[13]EjecucionPptalPasiva!D278 -> 120000000 | C26: =+[7]Ppto!Y117 -> 10000000 | D26: =+[7]Ppto!Z117 -> 10000000 | E26: =+[7]Ppto!AA117 -> 10000000 | F26: =+[7]Ppto!AB117 -> 10000000 | G26: =+[7]Ppto!AC117 -> 10000000 | H26: =+[7]Ppto!AD117 -> 10000000 | I26: =+[8]Ppto!$O$117 -> 10000000 | S26: 10000000 | T26: 7829730 | U26: =+[12]EjecucionPptalPasiva!$Q$245 -> 8721683 | V26: 9052318
O27: =SUM(C27:N27) -> 0
A28: Distribuccion Ac | B28: =SUM(B29:B36) -> 55900000 | C28: =SUM(C29:C36) -> 0 | D28: =SUM(D29:D36) -> 2000000 | E28: =SUM(E29:E36) -> 7000000 | F28: =SUM(F29:F36) -> 9100000 | G28: =SUM(G29:G36) -> 9100000 | H28: =SUM(H29:H36) -> 8100000 | I28: =SUM(I29:I36) -> 4100000 | ... S28: =SUM(S29:S36) -> 0 | U28: =SUM(U29:U36) -> 0 | V28: =SUM(V29:V36) -> 3800000
A29: Arrendamiento compresor | B29: =+[13]EjecucionPptalPasiva!$D$281 -> 15000000 | E29: =+[8]Ppto!$K$140 -> 5000000 | F29: =+[8]Ppto!K140 -> 5000000 | G29: =+[8]Ppto!L140 -> 5000000 | H29: =+[8]Ppto!N140 -> 0
A30: Mantenimiento conectividad tanques | B30: 0 | C30: =+B30/12 -> 0 | D30: =+C30 -> 0 | E30: =+D30 -> 0 | F30: 0 | G30: 0 | H30: 0 | I30: =+H30 -> 0 | J30: =+I30 -> 0 | K30: =+J30 -> 0 | L30: =+K30 -> 0 | M30: =+L30 -> 0 | N30: =+M30 -> 0 | O30: =SUM(C30:N30)+11000000 -> 11000000
A31: Mantenimiento redes | B31: 0 | C31: =+B31/12 -> 0 | D31: =+C31 -> 0 | E31: =+D31 -> 0 | F31: 0 | G31: 0 | H31: 0 | I31: =+H31 -> 0 | J31: =+I31 -> 0 | K31: =+J31 -> 0 | L31: =+K31 -> 0 | M31: =+L31 -> 0 | N31: =+M31 -> 0 | O31: =SUM(C31:N31)-20520000 -> -20520000
A32: Equipos trabajo confinado (rescate, ventilador) | D32: 0 | E32: 0 | O32: =SUM(C32:N32)-30000000 -> -30000000
A33: Telemetria | B33: =+[13]EjecucionPptalPasiva!$D$282 -> 18900000 | C33: =+[7]Ppto!$Y$132 -> 0 | F33: =+[8]Ppto!$L$132 -> 2100000 | G33: =+[8]Ppto!L132 -> 2100000 | H33: =+[8]Ppto!N132 -> 2100000 | I33: =+[8]Ppto!O132 -> 2100000 | V33: 3800000
A34: Calibracion medidores | B34: =+[13]EjecucionPptalPasiva!$D$283 -> 18000000 | D34: =+[8]Ppto!$J$137 -> 2000000 | E34: =+[8]Ppto!$J$137 -> 2000000 | F34: =+[8]Ppto!J137 -> 2000000 | G34: =+[8]Ppto!K137 -> 2000000 | H34: =+[8]Ppto!N137 -> 2000000 | I34: =+[8]Ppto!O137 -> 2000000
A35: Tasa ut-aguas superficiales | B35: =+[13]EjecucionPptalPasiva!$D$284 -> 4000000 | H35: =+[8]Ppto!N162 -> 4000000 | I35: =+[8]Ppto!O162 -> 0
A36: Construcción de pequeños tramos de acueducto - Vecinales | B36: 0 | H36: 0 | J36: 0 | K36: 0 | L36: 0 | M36: 0 | N36: 0 | O36: =SUM(C36:N36)+398161000 -> 398161000
O37: =SUM(C37:N37) -> 0
A38: Captacion Ac | B38: =+B39 -> 0 | C38: =+C39 -> 0 | D38: =+D39 -> 0 | E38: =+E39 -> 0 | F38: =+F39 -> 0 | G38: =+G39 -> 0 | H38: =+H39 -> 0 | I38: =+I39 -> 0 | ... Q38: =+Q39 -> 0 | V38: =+V39 -> 0
A39: Estudios compuerta Embalse Fresh Water Bay | B39: 0 | H39: 0 | I39: 0 | O39: =SUM(C39:N39)-11000000 -> -11000000
O40: =SUM(C40:N40) -> 0
A41: Comercial Ac | D41: =+'2026Ej'!F22 -> 4528764.9 | E41: =+'2026Ej'!G22 -> 5074982 | F41: 0 | G41: 0 | O41: =SUM(C41:N41) -> 9603746.9
A42: Generales/Administracion Ac | B42: =SUM(B43:B57) -> 390119700 | C42: =SUM(C43:C57) -> 1887500 | D42: =SUM(D43:D57) -> 5089000 | E42: =SUM(E43:E57) -> 62450000 | F42: =SUM(F43:F57) -> 30089000 | G42: =SUM(G43:G58) -> 33150000 | H42: =SUM(H43:H58) -> 32089000 | I42: =SUM(I43:I58) -> 28150000 | J42: =SUM(J43:J54) -> 46481000 | K42: =SUM(K43:K54) -> 56481000 | L42: =SUM(L43:L54) -> 46481000 | M42: =SUM(M43:M54) -> 40481000 | N42: =SUM(N43:N54) -> 15481000 | O42: =SUM(C42:N42)-72500000 -> 325809500 | P42: =SUM(P43:P57) -> 3070680 | Q42: =SUM(Q43:Q57) -> 26236441 | R42: =SUM(R43:R57) -> 14632579 | S42: =SUM(S43:S57) -> 32982591 | T42: =SUM(T43:T57) -> 509915 | U42: =SUM(U43:U58) -> 18506057 | V42: =SUM(V43:V58) -> 6619070
A43: Mantenimiento veh, | B43: 0 | G43: =+[8]Ppto!M151 -> 7000000 | H43: =+[8]Ppto!N151 -> 7000000 | I43: =+[8]Ppto!O151 -> 7000000 | L43: 0 | O43: =SUM(C43:N43)+15000000 -> 36000000 | V43: 429000
...

Sheet 2026Ej
A1: PROVIDENCE AND KETTLINA UTILITIES COMPANY SAS. NIT.901352888-1
A3: EJECUCION PRESUPUESTO DE FUNCIONAMIENTO AÑO 2026
C4: Ejecucion Enero | F4: Ejecucion Febrero | I4: Ejecucion Marzo | L4: Ejecucion Abril | O4: Ejecucion Mayo | R4: Ejecucion Junio | U4: Ejecucion Julio | X4: Ejecucion agosto | AA4: Ejecucion septiembre | AD4: Ejecucion octubre | AG4: Ejecucion noviembre | AJ4: Ejecucion diciembre | AM4: Acumulado
A5: Concepto | B5: Año 2026 | C5: Enero | D5: Ejecucion | E5: Variacion | F5: Febrero | G5: Ejecutado | H5: Variacion | I5: Marzo | J5: Ejecutado | K5: Variacion | L5: Abril | M5: Ejecutado | N5: Variacion | O5: Mayo | P5: Ejecutado | Q5: Variacion | R5: Junio | S5: Ejecutado | T5: Variacion | U5: Julio | V5: Ejecutado | W5: Variacion | X5: Agosto | Y5: Ejecutado | Z5: Variacion | AA5: Sept | AB5: Ejecutado | AC5: Variacion | AD5: Oct | AE5: Ejecutado | AF5: Variacion | AG5: Noviembre | AH5: Ejecutado | AI5: Variacion | AJ5: Diciembre | AK5: Ejecutado | AL5: Variacion | AM5: Presupuesto acumulado | AN5: Ejecucion acumulada | AO5: variacion acumulada | AP5: Participacion %
A6: Acueducto | B6: =+'202501anual'!B6-219272400 -> 585832320 | C6: 67092060 | D6: =+[20]Factrecaudocartera2025!$O$72+[20]Factrecaudocartera2025!$O$78 -> 63531867 | E6: =+C6-D6 -> 3560193.3 | F6: 67092060 | G6: =+[21]Factrecaudocartera2025!$O$72+[21]Factrecaudocartera2025!$O$78 -> 57405475 | H6: =+F6-G6 -> 9686584.7 | I6: 67092060 | J6: =+[22]Factrecaudocartera2026!D46 -> 58685928 | K6: =+I6-J6 -> 8406132.3 | L6: 46637213 | M6: 78112585 | N6: =+L6-M6 -> -31475372 | O6: 46637213 | P6: 71650501 | Q6: =+O6-P6 -> -25013288 | R6: =46637214 -> 46637214 | S6: 64745795 | T6: =+R6-S6 -> -18108581 | U6: =46637214+2281400 -> 48918614 | V6: 86709298 | W6: =+U6-V6 -> -37790684 | Z6: =+X6-Y6 -> 0 | AC6: =+AA6-AB6 -> 0 | AF6: =+AD6-AE6 -> 0 | AI6: =+AG6-AH6 -> 0 | AL6: =+AJ6-AK6 -> 0 | AM6: =+C6+F6+I6+L6+O6+R6+U6+X6+AA6+AD6+AG6+AJ6 -> 390106434 | AN6: =+D6+G6+J6+M6+P6+S6+V6+Y6+AB6+AE6+AH6+AK6 -> 4.8084145e+08 | AO6: =+AM6-AN6 -> -90735015 | AP6: =+AO6/AM6 -> -0.23259041
A7: Aseo | B7: =+'202501anual'!B10-557403600 -> 888015600 | C7: 120451600 | D7: =+[20]Factrecaudocartera2025!$Q$72+[20]Factrecaudocartera2025!$Q$78 -> 69201053 | E7: =+C7-D7 -> 51250547 | F7: 119170200 | G7: =+[21]Factrecaudocartera2025!$Q$72+[21]Factrecaudocartera2025!$Q$78 -> 62345942 | H7: =+F7-G7 -> 56824258 | I7: 119170200 | J7: =+[22]Factrecaudocartera2026!$D$48 -> 70283054 | K7: =+I7-J7 -> 48887146 | L7: 53047474 | M7: 88501328 | N7: =+L7-M7 -> -35453854 | O7: 53047474 | P7: =+[23]Factrecaudocartera2026!$Q$91 -> 76715751 | Q7: =+O7-P7 -> -23668277 | R7: =53047474 -> 53047474 | S7: 72386881 | T7: =+R7-S7 -> -19339407 | U7: =53047474+2281400 -> 55328874 | V7: 97720203 | W7: =+U7-V7 -> -42391329 | Z7: =+X7-Y7 -> 0 | AC7: =+AA7-AB7 -> 0 | AF7: =+AD7-AE7 -> 0 | AI7: =+AG7-AH7 -> 0 | AL7: =+AJ7-AK7 -> 0 | AM7: =+C7+F7+I7+L7+O7+R7+U7+X7+AA7+AD7+AG7+AJ7 -> 573263296 | AN7: =+D7+G7+J7+M7+P7+S7+V7+Y7+AB7+AE7+AH7+AK7 -> 5.3715421e+08 | AO7: =+AM7-AN7 -> 36109084 | AP7: =+AO7/AM7 -> 0.062988654
A8: Alcantarillado | B8: =+'202501anual'!B12-2539200 -> 4435800 | C8: 581250 | D8: =+[20]Factrecaudocartera2025!$P$72+[20]Factrecaudocartera2025!$P$78 -> 435361.75 | E8: =+C8-D8 -> 145888.25 | F8: 581250 | G8: =+[21]Factrecaudocartera2025!$P$72 -> 702948.28 | H8: =+F8-G8 -> -121698.28 | I8: 581250 | J8: =+[22]Factrecaudocartera2026!D47 -> 255536.31 | K8: =+I8-J8 -> 325713.69 | L8: 579356 | M8: 399077.56 | N8: =+L8-M8 -> 180278.44 | O8: 579356 | P8: =+[23]Factrecaudocartera2026!$P$91 -> 331984.41 | Q8: =+O8-P8 -> 247371.59 | R8: =579356 -> 579356 | S8: 230362.43 | T8: =+R8-S8 -> 348993.57 | U8: =579356 -> 579356 | V8: 490511.13 | W8: =+U8-V8 -> 88844.87 | Z8: =+X8-Y8 -> 0 | AC8: =+AA8-AB8 -> 0 | AF8: =+AD8-AE8 -> 0 | AI8: =+AG8-AH8 -> 0 | AL8: =+AJ8-AK8 -> 0 | AM8: =+C8+F8+I8+L8+O8+R8+U8+X8+AA8+AD8+AG8+AJ8 -> 4061174 | AN8: =+D8+G8+J8+M8+P8+S8+V8+Y8+AB8+AE8+AH8+AK8 -> 2845781.9 | AO8: =+AM8-AN8 -> 1215392.1 | AP8: =+AO8/AM8 -> 0.29927113
A9: Subsidios | B9: =219272400+557403600+2539200 -> 779215200 | C9: 0 | D9: =+[20]Factrecaudocartera2025!$B$50 -> 61061046 | E9: =+C9-D9 -> -61061046 | G9: =+[21]Factrecaudocartera2025!$V$94 -> 123205449 | H9: =+F9-G9 -> -123205449 | K9: =+I9-J9 -> 0 | L9: 86579467 | M9: 0 | N9: =+L9-M9 -> 86579467 | O9: 86579467 | P9: 1.2868528e+08 | Q9: =+O9-P9 -> -42105817 | R9: 86579467 | S9: 1.38447e+08 | T9: =+R9-S9 -> -51867531 | U9: 86579467 | V9: 71979986 | W9: =+U9-V9 -> 14599481 | Z9: =+X9-Y9 -> 0 | AC9: =+AA9-AB9 -> 0 | AF9: =+AD9-AE9 -> 0 | AI9: =+AG9-AH9 -> 0 | AL9: =+AJ9-AK9 -> 0 | AM9: =+C9+F9+I9+L9+O9+R9+U9+X9+AA9+AD9+AG9+AJ9 -> 3.4631787e+08 | AN9: =+D9+G9+J9+M9+P9+S9+V9+Y9+AB9+AE9+AH9+AK9 -> 5.2337876e+08 | AO9: =+AM9-AN9 -> -1.770609e+08 | AP9: =+AO9/AM9 -> -0.511267
A10: Recuperacion de cartera | B10: =+'202501anual'!B13 -> 71800000 | C10: =+B10/12 -> 5983333.3 | D10: 5165969.1 | E10: =+C10-D10 -> 817364.18 | F10: 335266.67 | G10: =+[21]Factrecaudocartera2025!$C$52 -> 4244661.7 | H10: =+F10-G10 -> -3909395 | I10: 3800000 | J10: 0 | K10: =+I10-J10 -> 3800000 | L10: 3800000 | M10: 3653020.9 | N10: =+L10-M10 -> 146979.15 | O10: 3800000 | P10: 3502637.2 | Q10: =+O10-P10 -> 297362.79 | R10: =3800000 -> 3800000 | S10: 4295267.1 | T10: =+R10-S10 -> -495267.07 | U10: =3800000 -> 3800000 | V10: 3601563.2 | W10: =+U10-V10 -> 198436.78 | Z10: =+X10-Y10 -> 0 | AC10: =+AA10-AB10 -> 0 | AF10: =+AD10-AE10 -> 0 | AI10: =+AG10-AH10 -> 0 | AL10: =+AJ10-AK10 -> 0 | AM10: =+C10+F10+I10+L10+O10+R10+U10+X10+AA10+AD10+AG10+AJ10 -> 25318600 | AN10: =+D10+G10+J10+M10+P10+S10+V10+Y10+AB10+AE10+AH10+AK10 -> 24463119 | AO10: =+AM10-AN10 -> 855480.83 | AP10: =+AO10/AM10 -> 0.033788631 | AT10: Ppto | AU10: Ejec | AV10: Dif
A11: Contratos Mutuos - Fondo Empresarial | B11: =+'202501anual'!B14+0.804 -> 4.3806657e+09 | C11: 0 | D11: 0 | E11: =+C11-D11 -> 0 | H11: =+F11-G11 -> 0 | K11: =+I11-J11 -> 0 | L11: 3191658190 | M11: 3191658190 | N11: =+L11-M11 -> 0 | Q11: =+O11-P11 -> 0 | W11: =+U11-V11 -> 0 | Z11: =+X11-Y11 -> 0 | AC11: =+AA11-AB11 -> 0 | AF11: =+AD11-AE11 -> 0 | AL11: =+AJ11-AK11 -> 0 | AM11: =+C11+F11+I11+L11+O11+R11+U11+X11+AA11+AD11+AG11+AJ11 -> 3191658190 | AN11: =+D11+G11+J11+M11+P11+S11+V11+Y11+AB11+AE11+AH11+AK11 -> 3191658190 | AO11: =+AM11-AN11 -> 0 | AP11: =+AO11/AM11 -> 0 | AS11: Mtto electromecanico | AT11: 6000000 | AU11: 1725000 | AV11: =+AT11-AU11 -> 4275000
A12: Total Ingresos | B12: =SUM(B6:B11) -> 6.7099646e+09 | C12: =SUM(C6:C11) -> 1.9410824e+08 | D12: =SUM(D6:D11) -> 1.993953e+08 | E12: =SUM(E6:E11) -> -5287053.5 | F12: =SUM(F6:F11) -> 1.8717878e+08 | G12: =SUM(G6:G11) -> 2.4790448e+08 | H12: =SUM(H6:H11) -> -60725699 | I12: =SUM(I6:I11) -> 190643510 | ... AO12: =SUM(AO6:AO11) -> -2.2961595e+08 | AP12: =+AO12/AM12 -> -0.050679731 | AR12: =W12/U12*100 -> -33.449355 | AS12: Mtto generador de hipoclorito | AT12: 2500000 | AU12: 0 | AV12: =+AT12-AU12 -> 2500000 | AZ12: =+AM12-AN12-AO12 -> 0
A13: Personal Ac | B13: =+'202501anual'!B16 -> 967711968 | C13: =+B13/12 -> 80642664 | D13: =+[24]Resultados!$C$9 -> 73266237 | E13: =+C13-D13 -> 7376427 | F13: =+'202501anual'!D16 -> 80642664 | G13: =+[25]Resultados!D9-[25]Resultados!D26+4322891 -> 79340981 | H13: =+F13-G13 -> 1301683 | I13: =+'202501anual'!E16 -> 80642664 | J13: =+[26]Resultados!$E$9 -> 78746500 | K13: =+I13-J13 -> 1896164 | L13: =+'202501anual'!F16 -> 80642664 | M13: 82455744 | N13: =+L13-M13 -> -1813080 | O13: =+'202501anual'!G16 -> 80642664 | P13: 80276080 | Q13: =+O13-P13 -> 366584 | R13: =+'202501anual'!H16 -> 80642664 | S13: 79380196 | T13: =+R13-S13 -> 1262468 | U13: =+'202501anual'!I16 -> 80642664 | V13: =+[30]Resultados!$I$9 -> 77880919 | W13: =+U13-V13 -> 2761745 | Z13: =+X13-Y13 -> 0 | AC13: =+AA13-AB13 -> 0 | AF13: =+AD13-AE13 -> 0 | AI13: =+AG13-AH13 -> 0 | AM13: =+C13+F13+I13+L13+O13+R13+U13+X13+AA13+AD13+AG13+AJ13 -> 564498648 | AN13: =+D13+G13+J13+M13+P13+S13+V13+Y13+AB13+AE13+AH13+AK13 -> 551346657 | AO13: =+AM13-AN13 -> 13151991 | AP13: =+AO13/AM13 -> 0.023298534 | AS13: Laboratorio | AT13: 6000000 | AU13: 0 | AV13: =+AT13-AU13 -> 6000000 | AZ13: =+AM13-AN13-AO13 -> 0
A14: Potabilizacion Ac | B14: =+'202501anual'!B17 -> 328400000 | C14: =+'202501anual'!C17 -> 14700000 | D14: =+'202501anual'!P17 -> 4311268 | E14: =+C14-D14 -> 10388732 | F14: =+'202501anual'!D17 -> 14700000 | G14: =+'202501anual'!Q17 -> 15011958 | H14: =+F14-G14 -> -311958 | I14: =+'202501anual'!E17 -> 14700000 | J14: =+'202501anual'!R17 -> 6842675 | K14: =+I14-J14 -> 7857325 | L14: =+'202501anual'!F17 -> 41500000 | M14: =+'202501anual'!S17 -> 11450400 | N14: =+L14-M14 -> 30049600 | O14: =+'202501anual'!G17 -> 48776000 | P14: =+'202501anual'!T17 -> 14682730 | Q14: =+O14-P14 -> 34093270 | R14: =+'202501anual'!H17 -> 33776000 | S14: 33454796 | T14: =+R14-S14 -> 321204 | U14: =+'202501anual'!I17 -> 34700000 | V14: =+'202501anual'!V17 -> 15311168 | W14: =+U14-V14 -> 19388832 | Z14: =+X14-Y14 -> 0 | AC14: =+AA14-AB14 -> 0 | AF14: =+AD14-AE14 -> 0 | AI14: =+AG14-AH14 -> 0 | AM14: =+C14+F14+I14+L14+O14+R14+U14+X14+AA14+AD14+AG14+AJ14 -> 202852000 | AN14: =+D14+G14+J14+M14+P14+S14+V14+Y14+AB14+AE14+AH14+AK14 -> 101064995 | AO14: =+AM14-AN14 -> 101787005 | AP14: =+AO14/AM14 -> 0.50177965 | AT14: =SUM(AT11:AT13) -> 14500000 | AU14: =SUM(AU11:AU13) -> 1725000 | AV14: =SUM(AV11:AV13) -> 12775000 | AZ14: =+AM14-AN14-AO14 -> 0
A15: Distribuccion Ac | B15: =+'202501anual'!B28 -> 55900000 | C15: =+'202501anual'!C28 -> 0 | D15: =+'202501anual'!P28 -> 0 | E15: =+C15-D15 -> 0 | F15: =+'202501anual'!D34 -> 2000000 | G15: =+'202501anual'!Q28 -> 0 | H15: =+F15-G15 -> 2000000 | I15: =+'202501anual'!E28 -> 7000000 | J15: =+'202501anual'!R28 -> 0 | K15: =+I15-J15 -> 7000000 | L15: =+'202501anual'!F28 -> 9100000 | M15: =+'202501anual'!S28 -> 0 | N15: =+L15-M15 -> 9100000 | O15: =+'202501anual'!G28 -> 9100000 | P15: =+'202501anual'!T28 -> 0 | Q15: =+O15-P15 -> 9100000 | R15: =+'202501anual'!H28 -> 8100000 | S15: 0 | T15: =+R15-S15 -> 8100000 | U15: =+'202501anual'!I28 -> 4100000 | V15: =+'202501anual'!V28 -> 3800000 | W15: =+U15-V15 -> 300000 | Z15: =+X15-Y15 -> 0 | AC15: =+AA15-AB15 -> 0 | AF15: =+AD15-AE15 -> 0 | AI15: =+AG15-AH15 -> 0 | AM15: =+C15+F15+I15+L15+O15+R15+U15+X15+AA15+AD15+AG15+AJ15 -> 39400000 | AN15: =+D15+G15+J15+M15+P15+S15+V15+Y15+AB15+AE15+AH15+AK15 -> 3800000 | AO15: =+AM15-AN15 -> 35600000 | AP15: =+AO15/AM15 -> 0.9035533 | AS15: PP pequeños tramos | AT15: 0 | AU15: 0 | AV15: =+AT15-AU15 -> 0 | AZ15: =+AM15-AN15-AO15 -> 0
A16: Captacion Ac | B16: 0 | C16: 0 | D16: =+'202501anual'!P38 -> 0 | E16: =+C16-D16 -> 0 | H16: =+F16-G16 -> 0 | K16: =+I16-J16 -> 0 | N16: =+L16-M16 -> 0 | Q16: =+O16-P16 -> 0 | T16: =+R16-S16 -> 0 | W16: =+U16-V16 -> 0 | Z16: =+X16-Y16 -> 0 | AC16: =+AA16-AB16 -> 0 | AF16: =+AD16-AE16 -> 0 | AI16: =+AG16-AH16 -> 0 | AM16: =+C16+F16+I16+L16+O16+R16+U16+X16+AA16+AD16+AG16+AJ16 -> 0 | AN16: =+D16+G16+J16+M16+P16+S16+V16+Y16+AB16+AE16+AH16+AK16 -> 0 | AO16: =+AM16-AN16 -> 0 | AP16: =+AO16/AM16 -> #DIV/0! | AS16: Compra Maq | AT16: 0 | AU16: 13762550 | AV16: =+AT16-AU16 -> -13762550 | AZ16: =+AM16-AN16-AO16 -> 0
A17: Comercial Ac | B17: 0 | C17: 0 | D17: 0 | E17: =+C17-D17 -> 0 | H17: =+F17-G17 -> 0 | K17: =+I17-J17 -> 0 | N17: =+L17-M17 -> 0 | Q17: =+O17-P17 -> 0 | T17: =+R17-S17 -> 0 | W17: =+U17-V17 -> 0 | Z17: =+X17-Y17 -> 0 | AC17: =+AA17-AB17 -> 0 | AF17: =+AD17-AE17 -> 0 | AI17: =+AG17-AH17 -> 0 | AM17: =+C17+F17+I17+L17+O17+R17+U17+X17+AA17+AD17+AG17+AJ17 -> 0 | AN17: =+D17+G17+J17+M17+P17+S17+V17+Y17+AB17+AE17+AH17+AK17 -> 0 | AO17: =+AM17-AN17 -> 0 | AP17: =+AO17/AM17 -> #DIV/0! | AS17: Articulos proteccion | AT17: 0 | AU17: =34914910+27160573 -> 62075483 | AV17: =+AT17-AU17 -> -62075483 | AZ17: =+AM17-AN17-AO17 -> 0
A18: Generales/Administracion Ac | B18: =+'202501anual'!B42 -> 390119700 | C18: =+'202501anual'!C42 -> 1887500 | D18: =+'202501anual'!P42 -> 3070680 | E18: =+C18-D18 -> -1183180 | F18: =+'202501anual'!D42 -> 5089000 | G18: =+'202501anual'!Q42 -> 26236441 | H18: =+F18-G18 -> -21147441 | I18: =+'202501anual'!E42 -> 62450000 | J18: =+'202501anual'!R42 -> 14632579 | K18: =+I18-J18 -> 47817421 | L18: =+'202501anual'!F42 -> 30089000 | M18: =+'202501anual'!S42 -> 32982591 | N18: =+L18-M18 -> -2893591 | O18: =+'202501anual'!G42 -> 33150000 | P18: =+'202501anual'!T42 -> 509915 | Q18: =+O18-P18 -> 32640085 | R18: =+'202501anual'!H42 -> 32089000 | S18: 18506057 | T18: =+R18-S18 -> 13582943 | U18: =+'202501anual'!I42 -> 28150000 | V18: =+'202501anual'!V42 -> 6619070 | W18: =+U18-V18 -> 21530930 | Z18: =+X18-Y18 -> 0 | AC18: =+AA18-AB18 -> 0 | AF18: =+AD18-AE18 -> 0 | AI18: =+AG18-AH18 -> 0 | AM18: =+C18+F18+I18+L18+O18+R18+U18+X18+AA18+AD18+AG18+AJ18 -> 192904500 | AN18: =+D18+G18+J18+M18+P18+S18+V18+Y18+AB18+AE18+AH18+AK18 -> 102557333 | AO18: =+AM18-AN18 -> 90347167 | AP18: =+AO18/AM18 -> 0.46835179 | AS18: Obra civil | AT18: 25000000 | AU18: 22832625 | AV18: =+AT18-AU18 -> 2167375 | AZ18: =+AM18-AN18-AO18 -> 0
A19: Subtotal Acueducto | B19: =SUM(B13:B18) -> 1742131668 | C19: =SUM(C13:C18) -> 97230164 | D19: =SUM(D13:D18) -> 80648185 | E19: =SUM(E13:E18) -> 16581979 | F19: =SUM(F13:F18) -> 102431664 | G19: =SUM(G13:G18) -> 120589380 | H19: =SUM(H13:H18) -> -18157716 | I19: =SUM(I13:I18) -> 164792664 | ... AO19: =SUM(AO13:AO18) -> 240886163 | AP19: =+AO19/AM19 -> 0.24096926 | AR19: =W19/U19*100 -> 29.79925 | AS19: Servcios publicos | AT19: 13281000 | AU19: 212338 | AV19: =+AT19-AU19 -> 13068662 | AZ19: =+AM19-AN19-AO19 -> 0
A20: Personal Alc | B20: =+'202501anual'!B60 -> 51015178 | C20: =+B20/12 -> 4251264.9 | D20: =+[24]Resultados!$C$27 -> 2843992 | E20: =+C20-D20 -> 1407272.9 | F20: =+C20 -> 4251264.9 | G20: =+[25]Resultados!$D$27 -> 3805882 | H20: =+F20-G20 -> 445382.87 | I20: =+F20 -> 4251264.9 | J20: =+[26]Resultados!$E$27 -> 4222127 | K20: =+I20-J20 -> 29137.87 | L20: =+'202501anual'!F60 -> 4251264.9 | M20: =+[27]Resultados!$F$27 -> 4303071 | N20: =+L20-M20 -> -51806.13 | O20: =+'202501anual'!G60 -> 4251264.9 | P20: 4316579 | Q20: =+O20-P20 -> -65314.13 | R20: =+'202501anual'!H60 -> 4251264.9 | S20: 4262650 | T20: =+R20-S20 -> -11385.13 | U20: =+'202501anual'!I60 -> 4251264.9 | V20: =+[30]Resultados!$I$27 -> 4337446 | W20: =+U20-V20 -> -86181.13 | Z20: =+X20-Y20 -> 0 | AC20: =+AA20-AB20 -> 0 | AF20: =+AD20-AE20 -> 0 | AI20: =+AG20-AH20 -> 0 | AL20: =+AJ20-AK20 -> 0 | AM20: =+C20+F20+I20+L20+O20+R20+U20+X20+AA20+AD20+AG20+AJ20 -> 29758854 | AN20: =+D20+G20+J20+M20+P20+S20+V20+Y20+AB20+AE20+AH20+AK20 -> 28091747 | AO20: =+AM20-AN20 -> 1667107.1 | AP20: =+AO20/AM20 -> 0.05602054 | AS20: Telemetria | AT20: 2200000 | AU20: 3931865 | AV20: =+AT20-AU20 -> -1731865 | AZ20: =+AM20-AN20-AO20 -> 0
A21: Recoleccion y transporte Alc | B21: =+[13]EjecucionPptalPasiva!$D$258+[13]EjecucionPptalPasiva!$D$259+[13]EjecucionPptalPasiva!$D$260+[13]EjecucionPptalPasiva!$D$261+[13]EjecucionPptalPasiva!$D$285+[13]EjecucionPptalPasiva!$D$286+[13]EjecucionPptalPasiva!$D$287 -> 41029300 | C21: =+[7]Ppto!Y121+([7]Ppto!$Y$152*5/100)+([7]Ppto!$Y$153*5/100) -> 287500 | D21: 0 | E21: =+C21-D21 -> 287500 | F21: =+[8]Ppto!J121+([8]Ppto!$J$97*0.5%)+([8]Ppto!J98*1.5%) -> 277500 | G21: 1269100 | H21: =+F21-G21 -> -991600 | I21: =+'202501anual'!E61+'202501anual'!E144 -> 19310500 | J21: =+'202501anual'!R61 -> 101403 | K21: =+I21-J21 -> 19209097 | L21: =+'202501anual'!F61 -> 277500 | M21: 0 | N21: =+L21-M21 -> 277500 | O21: =+'202501anual'!G61 -> 180000 | P21: 0 | Q21: =+O21-P21 -> 180000 | R21: =+'202501anual'!H61 -> 277500 | S21: 1038312 | T21: =+R21-S21 -> -760812 | U21: =+'202501anual'!I61 -> 330000 | V21: =+'202501anual'!V61 -> 1518050 | W21: =+U21-V21 -> -1188050 | Z21: =+X21-Y21 -> 0 | AC21: =+AA21-AB21 -> 0 | AF21: =+AD21-AE21 -> 0 | AI21: =+AG21-AH21 -> 0 | AL21: =+AJ21-AK21 -> 0 | AM21: =+C21+F21+I21+L21+O21+R21+U21+X21+AA21+AD21+AG21+AJ21 -> 20940500 | AN21: =+D21+G21+J21+M21+P21+S21+V21+Y21+AB21+AE21+AH21+AK21 -> 3926865 | AO21: =+AM21-AN21 -> 17013635 | AP21: =+AO21/AM21 -> 0.81247511 | AT21: =SUM(AT15:AT20) -> 40481000 | AU21: =SUM(AU18:AU20) -> 26976828 | AV21: =SUM(AV18:AV20) -> 13504172 | AZ21: =+AM21-AN21-AO21 -> 0
A22: Subtotal Alcantarillado | B22: =SUM(B20:B21) -> 92044478 | C22: =SUM(C20:C21) -> 4538764.9 | D22: =SUM(D20:D21) -> 2843992 | E22: =SUM(E20:E21) -> 1694772.9 | F22: =SUM(F20:F21) -> 4528764.9 | G22: =SUM(G20:G21) -> 5074982 | H22: =SUM(H20:H21) -> -546217.13 | I22: =SUM(I20:I21) -> 23561765 | ... P22: =SUM(P20:P21) -> 4316579 | Q22: =+O22-P22 -> 114685.87 | R22: =SUM(R20:R21) -> 4528764.9 | S22: =SUM(S20:S21) -> 5300962 | T22: =SUM(T20:T21) -> -772197.13 | U22: =SUM(U20:U21) -> 4581264.9 | V22: =SUM(V20:V21) -> 5855496 | W22: =SUM(W20:W21) -> -1274231.1 | X22: =SUM(X20:X21) -> 0 | Y22: =SUM(Y20:Y21) -> 0 | ... AO22: =SUM(AO20:AO21) -> 18680742 | AP22: =+AO22/AM22 -> 0.36846115 | AR22: =W22/U22*100 -> -27.813959 | AZ22: =+AM22-AN22-AO22 -> 0
A23: Costos de Funcionamiento Operativos AA | B23: =+B22+B19 -> 1.8341761e+09 | C23: =+C22+C19 -> 1.0176893e+08 | D23: =+D22+D19 -> 83492177 | E23: =+E22+E19 -> 18276752 | F23: =+F22+F19 -> 1.0696043e+08 | G23: =+G22+G19 -> 125664362 | H23: =+H22+H19 -> -18703933 | I23: =+I22+I19 -> 1.8835443e+08 | ... AO23: =+AO22+AO19 -> 2.5956691e+08 | AP23: =+AO23/AM23 -> 0.24712314 | AR23: =W23/U23*100 -> 28.064778 | AZ23: =+AM23-AN23-AO23 -> 0
A24: Personal | B24: =+'202501anual'!B64 -> 1451607000 | C24: =+B24/12 -> 120967250 | D24: =+[24]Resultados!$C$41 -> 1.105345e+08 | E24: =+C24-D24 -> 10432751 | F24: =+'202501anual'!D64 -> 120967250 | G24: =+[25]Resultados!$D$41-[25]Resultados!$D$59 -> 114058122 | H24: =+F24-G24 -> 6909128 | I24: =+'202501anual'!E64 -> 120967250 | J24: =+[26]Resultados!$E$41 -> 116362938 | K24: =+I24-J24 -> 4604312 | L24: =+'202501anual'!F64 -> 120967250 | M24: 109322446 | N24: =+L24-M24 -> 11644804 | O24: =+'202501anual'!G64 -> 120967250 | P24: 108537735 | Q24: =+O24-P24 -> 12429515 | R24: =+'202501anual'!H64 -> 120967250 | S24: 109832411 | T24: =+R24-S24 -> 11134839 | U24: =+'202501anual'!I64 -> 120967250 | V24: =+[30]Resultados!$I$41 -> 112145629 | W24: =+U24-V24 -> 8821621 | Z24: =+X24-Y24 -> 0 | AC24: =+AA24-AB24 -> 0 | AF24: =+AD24-AE24 -> 0 | AI24: =+AG24-AH24 -> 0 | AL24: =+AJ24-AK24 -> 0 | AM24: =+C24+F24+I24+L24+O24+R24+U24+X24+AA24+AD24+AG24+AJ24 -> 846770750 | AN24: =+D24+G24+J24+M24+P24+S24+V24+Y24+AB24+AE24+AH24+AK24 -> 7.8079378e+08 | AO24: =+AM24-AN24 -> 65976970 | AP24: =+AO24/AM24*100 -> 7.7915976 | AZ24: =+AM24-AN24-AO24 -> 0
A25: Dotación de uniformes para el personal, elementos de proteccion y bioseguridad (pantalon , camisa, zapatos, impermeables, pantaneras, chalecos reflectivos) | B25: 0 | C25: 0 | D25: 0 | E25: =+C25-D25 -> 0 | H25: =+F25-G25 -> 0 | K25: =+I25-J25 -> 0 | N25: =+L25-M25 -> 0 | Q25: =+O25-P25 -> 0 | T25: =+R25-S25 -> 0 | W25: =+U25-V25 -> 0 | Z25: =+X25-Y25 -> 0 | AC25: =+AA25-AB25 -> 0 | AF25: =+AD25-AE25 -> 0 | AI25: =+AG25-AH25 -> 0 | AL25: =+AJ25-AK25 -> 0 | AM25: =+C25+F25+I25+L25+O25+R25+U25+X25+AA25+AD25+AG25+AJ25 -> 0 | AN25: =+D25+G25+J25+M25+P25+S25+V25+Y25+AB25+AE25+AH25+AK25 -> 0 | AO25: =+AM25-AN25 -> 0 | AP25: =+AO25/AM25*100 -> #DIV/0! | AZ25: =+AM25-AN25-AO25 -> 0
A26: Barrido vias | B26: =+'202501anual'!B66 -> 12000000 | C26: =+'202501anual'!C66 -> 0 | E26: =+C26-D26 -> 0 | F26: =+'202501anual'!D66 -> 0 | H26: =+F26-G26 -> 0 | I26: =+'202501anual'!E66 -> 0 | J26: 0 | K26: =+I26-J26 -> 0 | L26: =+'202501anual'!F66 -> 0 | N26: =+L26-M26 -> 0 | Q26: =+O26-P26 -> 0 | T26: =+R26-S26 -> 0 | W26: =+U26-V26 -> 0 | Z26: =+X26-Y26 -> 0 | AC26: =+AA26-AB26 -> 0 | AF26: =+AD26-AE26 -> 0 | AI26: =+AG26-AH26 -> 0 | AL26: =+AJ26-AK26 -> 0 | AM26: =+C26+F26+I26+L26+O26+R26+U26+X26+AA26+AD26+AG26+AJ26 -> 0 | AN26: =+D26+G26+J26+M26+P26+S26+V26+Y26+AB26+AE26+AH26+AK26 -> 0 | AO26: =+AM26-AN26 -> 0 | AP26: =+AO26/AM26*100 -> #DIV/0! | AZ26: =+AM26-AN26-AO26 -> 0
A27: Recolección y Transporte | B27: =+'202501anual'!B69 -> 622200000 | C27: =+'202501anual'!C69 -> 51850000 | D27: 23350000 | E27: =+C27-D27 -> 28500000 | F27: =+'202501anual'!D69 -> 51850000 | G27: =+'202501anual'!Q69 -> 46820000 | H27: =+F27-G27 -> 5030000 | I27: =+'202501anual'!E69 -> 51850000 | J27: =+'202501anual'!R69 -> 50930300 | K27: =+I27-J27 -> 919700 | L27: =+'202501anual'!F69 -> 51850000 | M27: =+'202501anual'!S69 -> 50630000 | N27: =+L27-M27 -> 1220000 | O27: =+'202501anual'!G69 -> 51850000 | P27: =+'202501anual'!T69 -> 50590000 | Q27: =+O27-P27 -> 1260000 | R27: =+'202501anual'!H69 -> 51850000 | S27: 12450300 | T27: =+R27-S27 -> 39399700 | U27: =+'202501anual'!I69 -> 51850000 | V27: =+'202501anual'!V69 -> 132640000 | W27: =+U27-V27 -> -80790000 | Z27: =+X27-Y27 -> 0 | AC27: =+AA27-AB27 -> 0 | AF27: =+AD27-AE27 -> 0 | AI27: =+AG27-AH27 -> 0 | AL27: =+AJ27-AK27 -> 0 | AM27: =+C27+F27+I27+L27+O27+R27+U27+X27+AA27+AD27+AG27+AJ27 -> 362950000 | AN27: =+D27+G27+J27+M27+P27+S27+V27+Y27+AB27+AE27+AH27+AK27 -> 367410600 | AO27: =+AM27-AN27 -> -4460600 | AP27: =+AO27/AM27*100 -> -1.2289847 | AZ27: =+AM27-AN27-AO27 -> 0
A28: Disposición final | B28: =+'202501anual'!B74 -> 288200000 | C28: =+'202501anual'!C74 -> 13400000 | E28: =+C28-D28 -> 13400000 | F28: =+'202501anual'!D74 -> 13400000 | G28: =+'202501anual'!Q74 -> 10463119 | H28: =+F28-G28 -> 2936881 | I28: =+'202501anual'!E74 -> 32400000 | J28: =+'202501anual'!R74 -> 7587919 | K28: =+I28-J28 -> 24812081 | L28: =+'202501anual'!F74 -> 33400000 | M28: =+'202501anual'!S74 -> 2875000 | N28: =+L28-M28 -> 30525000 | O28: =+'202501anual'!G74 -> 21400000 | P28: =+'202501anual'!T74 -> 20925838 | Q28: =+O28-P28 -> 474162 | R28: =+'202501anual'!H74 -> 26400000 | S28: 0 | T28: =+R28-S28 -> 26400000 | U28: =+'202501anual'!I74 -> 15876000 | V28: =+'202501anual'!V74 -> 26382334 | W28: =+U28-V28 -> -10506334 | Z28: =+X28-Y28 -> 0 | AC28: =+AA28-AB28 -> 0 | AF28: =+AD28-AE28 -> 0 | AI28: =+AG28-AH28 -> 0 | AL28: =+AJ28-AK28 -> 0 | AM28: =+C28+F28+I28+L28+O28+R28+U28+X28+AA28+AD28+AG28+AJ28 -> 156276000 | AN28: =+D28+G28+J28+M28+P28+S28+V28+Y28+AB28+AE28+AH28+AK28 -> 68234210 | AO28: =+AM28-AN28 -> 88041790 | AP28: =+AO28/AM28*100 -> 56.337371 | AZ28: =+AM28-AN28-AO28 -> 0
A29: Generales/Administracion | B29: =+'202501anual'!B88 -> 253720800 | C29: =+'202501anual'!C88 -> 6775000 | D29: 5803614 | E29: =+C29-D29 -> 971386 | F29: =+'202501anual'!D88 -> 11389500 | G29: =+'202501anual'!Q88 -> 7933960 | H29: =+F29-G29 -> 3455540 | I29: =+'202501anual'!E88 -> 27889500 | J29: =+'202501anual'!R88 -> 3015760 | K29: =+I29-J29 -> 24873740 | L29: =+'202501anual'!F88 -> 17889500 | M29: =+'202501anual'!S88 -> 5935409 | N29: =+L29-M29 -> 11954091 | O29: =+'202501anual'!G88 -> 4850000 | P29: =+'202501anual'!T88 -> 6732876 | Q29: =+O29-P29 -> -1882876 | R29: =+'202501anual'!H88 -> 7313500 | S29: 19332099 | T29: =+R29-S29 -> -12018599 | U29: =+'202501anual'!I88 -> 4850000 | V29: =+'202501anual'!V88+'202501anual'!V65 -> 13190416 | W29: =+U29-V29 -> -8340416 | Z29: =+X29-Y29 -> 0 | AC29: =+AA29-AB29 -> 0 | AF29: =+AD29-AE29 -> 0 | AI29: =+AG29-AH29 -> 0 | AL29: =+AJ29-AK29 -> 0 | AM29: =+C29+F29+I29+L29+O29+R29+U29+X29+AA29+AD29+AG29+AJ29 -> 80957000 | AN29: =+D29+G29+J29+M29+P29+S29+V29+Y29+AB29+AE29+AH29+AK29 -> 61944134 | AO29: =+AM29-AN29 -> 19012866 | AP29: =+AO29/AM29*100 -> 23.485141 | AZ29: =+AM29-AN29-AO29 -> 0
